BEGIN:VCALENDAR
VERSION:2.0
PRODID:-//Abundant Life Reformed Church - ECPv6.15.13.1//NONSGML v1.0//EN
CALSCALE:GREGORIAN
METHOD:PUBLISH
X-WR-CALNAME:Abundant Life Reformed Church
X-ORIGINAL-URL:https://abundantlifewyckoff.org
X-WR-CALDESC:Events for Abundant Life Reformed Church
REFRESH-INTERVAL;VALUE=DURATION:PT1H
X-Robots-Tag:noindex
X-PUBLISHED-TTL:PT1H
BEGIN:VTIMEZONE
TZID:America/New_York
BEGIN:DAYLIGHT
TZOFFSETFROM:-0500
TZOFFSETTO:-0400
TZNAME:EDT
DTSTART:20230312T070000
END:DAYLIGHT
BEGIN:STANDARD
TZOFFSETFROM:-0400
TZOFFSETTO:-0500
TZNAME:EST
DTSTART:20231105T060000
END:STANDARD
BEGIN:DAYLIGHT
TZOFFSETFROM:-0500
TZOFFSETTO:-0400
TZNAME:EDT
DTSTART:20240310T070000
END:DAYLIGHT
BEGIN:STANDARD
TZOFFSETFROM:-0400
TZOFFSETTO:-0500
TZNAME:EST
DTSTART:20241103T060000
END:STANDARD
BEGIN:DAYLIGHT
TZOFFSETFROM:-0500
TZOFFSETTO:-0400
TZNAME:EDT
DTSTART:20250309T070000
END:DAYLIGHT
BEGIN:STANDARD
TZOFFSETFROM:-0400
TZOFFSETTO:-0500
TZNAME:EST
DTSTART:20251102T060000
END:STANDARD
BEGIN:DAYLIGHT
TZOFFSETFROM:-0500
TZOFFSETTO:-0400
TZNAME:EDT
DTSTART:20260308T070000
END:DAYLIGHT
BEGIN:STANDARD
TZOFFSETFROM:-0400
TZOFFSETTO:-0500
TZNAME:EST
DTSTART:20261101T060000
END:STANDARD
END:VTIMEZONE
BEGIN:VEVENT
DTSTART;TZID=America/New_York:20250312T100000
DTEND;TZID=America/New_York:20250312T113000
DTSTAMP:20260425T094127
CREATED:20240827T182221Z
LAST-MODIFIED:20250306T190301Z
UID:5750-1741773600-1741779000@abundantlifewyckoff.org
SUMMARY:Bible Study
DESCRIPTION:
URL:https://abundantlifewyckoff.org/event/bible-study-2/
LOCATION:Chapel Room
END:VEVENT
BEGIN:VEVENT
DTSTART;TZID=America/New_York:20250128T193000
DTEND;TZID=America/New_York:20250128T203000
DTSTAMP:20260425T094127
CREATED:20240827T171529Z
LAST-MODIFIED:20250123T200425Z
UID:5720-1738092600-1738096200@abundantlifewyckoff.org
SUMMARY:Choir Practice
DESCRIPTION:
URL:https://abundantlifewyckoff.org/event/choir-practice-2/
LOCATION:Music Room
END:VEVENT
BEGIN:VEVENT
DTSTART;TZID=America/New_York:20240910T130000
DTEND;TZID=America/New_York:20240910T150000
DTSTAMP:20260425T094127
CREATED:20240910T180306Z
LAST-MODIFIED:20240910T180307Z
UID:5760-1725973200-1725980400@abundantlifewyckoff.org
SUMMARY:Rummikub
DESCRIPTION:Join the Kubers\, where fun and fellowship collide! Whether you’re a seasoned player or just learning the game\, all skill levels are welcome. Come together with members of our church community for laughter\, strategy\, and friendly competition. Let’s gather around the table\, shuffle those tiles\, and enjoy some quality time together. See you at our next game night!
URL:https://abundantlifewyckoff.org/event/rummikub-2/
LOCATION:Chapel Room
END:VEVENT
BEGIN:VEVENT
DTSTART;TZID=America/New_York:20250126T100000
DTEND;TZID=America/New_York:20250126T120000
DTSTAMP:20260425T094127
CREATED:20240827T164257Z
LAST-MODIFIED:20250123T200628Z
UID:5706-1737885600-1737892800@abundantlifewyckoff.org
SUMMARY:Sunday Worship
DESCRIPTION:
URL:https://abundantlifewyckoff.org/event/sunday-worship/
LOCATION:sanctuary\, 475 Lafayette Ave\, Wyckoff\, NJ\, 07481\, United States
END:VEVENT
BEGIN:VEVENT
DTSTART;TZID=America/New_York:20240829T190000
DTEND;TZID=America/New_York:20240829T203000
DTSTAMP:20260425T094127
CREATED:20240827T164915Z
LAST-MODIFIED:20240827T164915Z
UID:5710-1724958000-1724963400@abundantlifewyckoff.org
SUMMARY:Bible Study
DESCRIPTION:
URL:https://abundantlifewyckoff.org/event/bible-study/
LOCATION:Chapel Room
END:VEVENT
BEGIN:VEVENT
DTSTART;TZID=America/New_York:20250312T100000
DTEND;TZID=America/New_York:20250312T113000
DTSTAMP:20260425T094127
CREATED:20240827T182221Z
LAST-MODIFIED:20250306T190301Z
UID:5750-1741773600-1741779000@abundantlifewyckoff.org
SUMMARY:Bible Study
DESCRIPTION:
URL:https://abundantlifewyckoff.org/event/bible-study-2/
LOCATION:Chapel Room
END:VEVENT
BEGIN:VEVENT
DTSTART;TZID=America/New_York:20250128T193000
DTEND;TZID=America/New_York:20250128T203000
DTSTAMP:20260425T094127
CREATED:20240827T171529Z
LAST-MODIFIED:20250123T200425Z
UID:5720-1738092600-1738096200@abundantlifewyckoff.org
SUMMARY:Choir Practice
DESCRIPTION:
URL:https://abundantlifewyckoff.org/event/choir-practice-2/
LOCATION:Music Room
END:VEVENT
BEGIN:VEVENT
DTSTART;TZID=America/New_York:20250126T100000
DTEND;TZID=America/New_York:20250126T120000
DTSTAMP:20260425T094127
CREATED:20240827T164257Z
LAST-MODIFIED:20250123T200628Z
UID:5706-1737885600-1737892800@abundantlifewyckoff.org
SUMMARY:Sunday Worship
DESCRIPTION:
URL:https://abundantlifewyckoff.org/event/sunday-worship/
LOCATION:sanctuary\, 475 Lafayette Ave\, Wyckoff\, NJ\, 07481\, United States
END:VEVENT
BEGIN:VEVENT
DTSTART;TZID=America/New_York:20241013T090000
DTEND;TZID=America/New_York:20241013T120000
DTSTAMP:20260425T094127
CREATED:20240930T210334Z
LAST-MODIFIED:20240930T210334Z
UID:5817-1728810000-1728820800@abundantlifewyckoff.org
SUMMARY:Walk to End Suicide
DESCRIPTION:
URL:https://abundantlifewyckoff.org/event/walk-to-end-suicide/
LOCATION:Saddle River County Park\, 760 Saddle River rd\, Saddle Brook\, NJ\, 07663\, United States
END:VEVENT
BEGIN:VEVENT
DTSTART;TZID=America/New_York:20240829T190000
DTEND;TZID=America/New_York:20240829T203000
DTSTAMP:20260425T094127
CREATED:20240827T164915Z
LAST-MODIFIED:20240827T164915Z
UID:5710-1724958000-1724963400@abundantlifewyckoff.org
SUMMARY:Bible Study
DESCRIPTION:
URL:https://abundantlifewyckoff.org/event/bible-study/
LOCATION:Chapel Room
END:VEVENT
BEGIN:VEVENT
DTSTART;TZID=America/New_York:20241010T100000
DTEND;TZID=America/New_York:20241010T120000
DTSTAMP:20260425T094127
CREATED:20240930T213244Z
LAST-MODIFIED:20240930T213244Z
UID:5832-1728554400-1728561600@abundantlifewyckoff.org
SUMMARY:CiM Leader Coaching
DESCRIPTION:
URL:https://abundantlifewyckoff.org/event/cim-leader-coaching/
LOCATION:Chapel Room
END:VEVENT
BEGIN:VEVENT
DTSTART;TZID=America/New_York:20250312T100000
DTEND;TZID=America/New_York:20250312T113000
DTSTAMP:20260425T094127
CREATED:20240827T182221Z
LAST-MODIFIED:20250306T190301Z
UID:5750-1741773600-1741779000@abundantlifewyckoff.org
SUMMARY:Bible Study
DESCRIPTION:
URL:https://abundantlifewyckoff.org/event/bible-study-2/
LOCATION:Chapel Room
END:VEVENT
BEGIN:VEVENT
DTSTART;TZID=America/New_York:20250128T193000
DTEND;TZID=America/New_York:20250128T203000
DTSTAMP:20260425T094127
CREATED:20240827T171529Z
LAST-MODIFIED:20250123T200425Z
UID:5720-1738092600-1738096200@abundantlifewyckoff.org
SUMMARY:Choir Practice
DESCRIPTION:
URL:https://abundantlifewyckoff.org/event/choir-practice-2/
LOCATION:Music Room
END:VEVENT
BEGIN:VEVENT
DTSTART;TZID=America/New_York:20240910T130000
DTEND;TZID=America/New_York:20240910T150000
DTSTAMP:20260425T094127
CREATED:20240910T180306Z
LAST-MODIFIED:20240910T180307Z
UID:5760-1725973200-1725980400@abundantlifewyckoff.org
SUMMARY:Rummikub
DESCRIPTION:Join the Kubers\, where fun and fellowship collide! Whether you’re a seasoned player or just learning the game\, all skill levels are welcome. Come together with members of our church community for laughter\, strategy\, and friendly competition. Let’s gather around the table\, shuffle those tiles\, and enjoy some quality time together. See you at our next game night!
URL:https://abundantlifewyckoff.org/event/rummikub-2/
LOCATION:Chapel Room
END:VEVENT
BEGIN:VEVENT
DTSTART;TZID=America/New_York:20241007T163000
DTEND;TZID=America/New_York:20241007T183000
DTSTAMP:20260425T094127
CREATED:20240930T213338Z
LAST-MODIFIED:20240930T213338Z
UID:5834-1728318600-1728325800@abundantlifewyckoff.org
SUMMARY:Finance Committee
DESCRIPTION:
URL:https://abundantlifewyckoff.org/event/finance-committee/
LOCATION:Chapel Room
END:VEVENT
BEGIN:VEVENT
DTSTART;TZID=America/New_York:20250126T100000
DTEND;TZID=America/New_York:20250126T120000
DTSTAMP:20260425T094127
CREATED:20240827T164257Z
LAST-MODIFIED:20250123T200628Z
UID:5706-1737885600-1737892800@abundantlifewyckoff.org
SUMMARY:Sunday Worship
DESCRIPTION:
URL:https://abundantlifewyckoff.org/event/sunday-worship/
LOCATION:sanctuary\, 475 Lafayette Ave\, Wyckoff\, NJ\, 07481\, United States
END:VEVENT
BEGIN:VEVENT
DTSTART;TZID=America/New_York:20241005T110000
DTEND;TZID=America/New_York:20241005T140000
DTSTAMP:20260425T094127
CREATED:20240827T143100Z
LAST-MODIFIED:20240827T143700Z
UID:5664-1728126000-1728136800@abundantlifewyckoff.org
SUMMARY:Hope Games 2024
DESCRIPTION:The Second Annual Hope Games will take place on October 5th from 11am-2pm at the William Paterson University Recreation Center. Please consider signing up to volunteer or just cheer on the residents. Out Rockledge Group Home men will be participating along with Janice and the other women in her house. Any questions\, contact Marcia W. Any worries about whats involved\, ask Cheryl C. about how much fun she had last year!! Flyers are located in the office.
URL:https://abundantlifewyckoff.org/event/hope-games-2024/
LOCATION:William Patterson University\, 300 Pompton Road\, Wayne\, NJ\, 07470\, United States
END:VEVENT
BEGIN:VEVENT
DTSTART;TZID=America/New_York:20240829T190000
DTEND;TZID=America/New_York:20240829T203000
DTSTAMP:20260425T094127
CREATED:20240827T164915Z
LAST-MODIFIED:20240827T164915Z
UID:5710-1724958000-1724963400@abundantlifewyckoff.org
SUMMARY:Bible Study
DESCRIPTION:
URL:https://abundantlifewyckoff.org/event/bible-study/
LOCATION:Chapel Room
END:VEVENT
BEGIN:VEVENT
DTSTART;TZID=America/New_York:20250312T100000
DTEND;TZID=America/New_York:20250312T113000
DTSTAMP:20260425T094127
CREATED:20240827T182221Z
LAST-MODIFIED:20250306T190301Z
UID:5750-1741773600-1741779000@abundantlifewyckoff.org
SUMMARY:Bible Study
DESCRIPTION:
URL:https://abundantlifewyckoff.org/event/bible-study-2/
LOCATION:Chapel Room
END:VEVENT
BEGIN:VEVENT
DTSTART;TZID=America/New_York:20250128T193000
DTEND;TZID=America/New_York:20250128T203000
DTSTAMP:20260425T094127
CREATED:20240827T171529Z
LAST-MODIFIED:20250123T200425Z
UID:5720-1738092600-1738096200@abundantlifewyckoff.org
SUMMARY:Choir Practice
DESCRIPTION:
URL:https://abundantlifewyckoff.org/event/choir-practice-2/
LOCATION:Music Room
END:VEVENT
BEGIN:VEVENT
DTSTART;TZID=America/New_York:20241001T130000
DTEND;TZID=America/New_York:20241001T150000
DTSTAMP:20260425T094127
CREATED:20240920T023339Z
LAST-MODIFIED:20240920T023339Z
UID:5804-1727787600-1727794800@abundantlifewyckoff.org
SUMMARY:Rummikub
DESCRIPTION:Join the Kubers\, where fun and fellowship collide! Whether you’re a seasoned player or just learning the game\, all skill levels are welcome. Come together with members of our church community for laughter\, strategy\, and friendly competition. Let’s gather around the table\, shuffle those tiles\, and enjoy some quality time together. See you at our next game night!
URL:https://abundantlifewyckoff.org/event/rummikub-2-2/
LOCATION:Chapel Room
END:VEVENT
BEGIN:VEVENT
DTSTART;TZID=America/New_York:20250126T100000
DTEND;TZID=America/New_York:20250126T120000
DTSTAMP:20260425T094127
CREATED:20240827T164257Z
LAST-MODIFIED:20250123T200628Z
UID:5706-1737885600-1737892800@abundantlifewyckoff.org
SUMMARY:Sunday Worship
DESCRIPTION:
URL:https://abundantlifewyckoff.org/event/sunday-worship/
LOCATION:sanctuary\, 475 Lafayette Ave\, Wyckoff\, NJ\, 07481\, United States
END:VEVENT
BEGIN:VEVENT
DTSTART;TZID=America/New_York:20240928T110000
DTEND;TZID=America/New_York:20240928T150000
DTSTAMP:20260425T094127
CREATED:20240827T142531Z
LAST-MODIFIED:20240827T142634Z
UID:5660-1727521200-1727535600@abundantlifewyckoff.org
SUMMARY:Piece of the Fair
DESCRIPTION:
URL:https://abundantlifewyckoff.org/event/piece-of-the-fair/
LOCATION:Ceder Hill Church\, 422 Ceder Hill Ave\, Wyckoff\, NJ\, 07481\, United States
END:VEVENT
BEGIN:VEVENT
DTSTART;TZID=America/New_York:20240829T190000
DTEND;TZID=America/New_York:20240829T203000
DTSTAMP:20260425T094127
CREATED:20240827T164915Z
LAST-MODIFIED:20240827T164915Z
UID:5710-1724958000-1724963400@abundantlifewyckoff.org
SUMMARY:Bible Study
DESCRIPTION:
URL:https://abundantlifewyckoff.org/event/bible-study/
LOCATION:Chapel Room
END:VEVENT
BEGIN:VEVENT
DTSTART;TZID=America/New_York:20250312T100000
DTEND;TZID=America/New_York:20250312T113000
DTSTAMP:20260425T094127
CREATED:20240827T182221Z
LAST-MODIFIED:20250306T190301Z
UID:5750-1741773600-1741779000@abundantlifewyckoff.org
SUMMARY:Bible Study
DESCRIPTION:
URL:https://abundantlifewyckoff.org/event/bible-study-2/
LOCATION:Chapel Room
END:VEVENT
BEGIN:VEVENT
DTSTART;TZID=America/New_York:20250128T193000
DTEND;TZID=America/New_York:20250128T203000
DTSTAMP:20260425T094127
CREATED:20240827T171529Z
LAST-MODIFIED:20250123T200425Z
UID:5720-1738092600-1738096200@abundantlifewyckoff.org
SUMMARY:Choir Practice
DESCRIPTION:
URL:https://abundantlifewyckoff.org/event/choir-practice-2/
LOCATION:Music Room
END:VEVENT
BEGIN:VEVENT
DTSTART;TZID=America/New_York:20240924T180000
DTEND;TZID=America/New_York:20240924T190000
DTSTAMP:20260425T094127
CREATED:20240918T131406Z
LAST-MODIFIED:20240918T132018Z
UID:5794-1727200800-1727204400@abundantlifewyckoff.org
SUMMARY:Women at the Well!!
DESCRIPTION:We will be discussing the second chapter in our new book\, “The Love Stories of the Bible Speak:Samson and Delilah- Mercy and Restoration. \nPlease feel free to stop in even if you haven’t read the book we would love to see your beautiful faces!!!
URL:https://abundantlifewyckoff.org/event/women-at-the-well/
LOCATION:Chapel Room
END:VEVENT
BEGIN:VEVENT
DTSTART;TZID=America/New_York:20250126T100000
DTEND;TZID=America/New_York:20250126T120000
DTSTAMP:20260425T094127
CREATED:20240827T164257Z
LAST-MODIFIED:20250123T200628Z
UID:5706-1737885600-1737892800@abundantlifewyckoff.org
SUMMARY:Sunday Worship
DESCRIPTION:
URL:https://abundantlifewyckoff.org/event/sunday-worship/
LOCATION:sanctuary\, 475 Lafayette Ave\, Wyckoff\, NJ\, 07481\, United States
END:VEVENT
BEGIN:VEVENT
DTSTART;TZID=America/New_York:20240829T190000
DTEND;TZID=America/New_York:20240829T203000
DTSTAMP:20260425T094127
CREATED:20240827T164915Z
LAST-MODIFIED:20240827T164915Z
UID:5710-1724958000-1724963400@abundantlifewyckoff.org
SUMMARY:Bible Study
DESCRIPTION:
URL:https://abundantlifewyckoff.org/event/bible-study/
LOCATION:Chapel Room
END:VEVENT
BEGIN:VEVENT
DTSTART;TZID=America/New_York:20250312T100000
DTEND;TZID=America/New_York:20250312T113000
DTSTAMP:20260425T094127
CREATED:20240827T182221Z
LAST-MODIFIED:20250306T190301Z
UID:5750-1741773600-1741779000@abundantlifewyckoff.org
SUMMARY:Bible Study
DESCRIPTION:
URL:https://abundantlifewyckoff.org/event/bible-study-2/
LOCATION:Chapel Room
END:VEVENT
END:VCALENDAR